BEGIN:VCALENDAR
VERSION:2.0
PRODID:-//Podium Neede - ECPv6.15.20//NONSGML v1.0//EN
CALSCALE:GREGORIAN
METHOD:PUBLISH
X-WR-CALNAME:Podium Neede
X-ORIGINAL-URL:https://podiumneede.nl
X-WR-CALDESC:Evenementen voor Podium Neede
REFRESH-INTERVAL;VALUE=DURATION:PT1H
X-Robots-Tag:noindex
X-PUBLISHED-TTL:PT1H
BEGIN:VTIMEZONE
TZID:Europe/Amsterdam
BEGIN:DAYLIGHT
TZOFFSETFROM:+0100
TZOFFSETTO:+0200
TZNAME:CEST
DTSTART:20240331T010000
END:DAYLIGHT
BEGIN:STANDARD
TZOFFSETFROM:+0200
TZOFFSETTO:+0100
TZNAME:CET
DTSTART:20241027T010000
END:STANDARD
BEGIN:DAYLIGHT
TZOFFSETFROM:+0100
TZOFFSETTO:+0200
TZNAME:CEST
DTSTART:20250330T010000
END:DAYLIGHT
BEGIN:STANDARD
TZOFFSETFROM:+0200
TZOFFSETTO:+0100
TZNAME:CET
DTSTART:20251026T010000
END:STANDARD
BEGIN:DAYLIGHT
TZOFFSETFROM:+0100
TZOFFSETTO:+0200
TZNAME:CEST
DTSTART:20260329T010000
END:DAYLIGHT
BEGIN:STANDARD
TZOFFSETFROM:+0200
TZOFFSETTO:+0100
TZNAME:CET
DTSTART:20261025T010000
END:STANDARD
END:VTIMEZONE
BEGIN:VEVENT
DTSTART;TZID=Europe/Amsterdam:20251115T200000
DTEND;TZID=Europe/Amsterdam:20251115T220000
DTSTAMP:20260422T020239
CREATED:20250615T174247Z
LAST-MODIFIED:20250911T180656Z
UID:10000042-1763236800-1763244000@podiumneede.nl
SUMMARY:JAZZ & JOKES met Jeffrey Spalburg en Michael Varekamp
DESCRIPTION:Een bruisende avond vol humor en muziek met “Jazz & Jokes”. Laat je meevoeren door de hilarische verhalen\, scherpe observaties en zwarte humor van comedian Jeffrey Spalburg\, terwijl het high-energy jazzkwartet van Michael Varekamp de sfeer versterkt met zijn virtuoze improvisaties. \nDe wereld verandert in een noodtempo en Jeffrey neemt je mee in een mix van actuele en persoonlijke zaken. Samen met Michael Varekamp & Band sparren zij op het podium met snelle en adremme humor in een energieke en opzwepende avond\, een onvergetelijke ervaring waarbij lachen en swingen hand in hand gaan en waarbij improvisatie en spontaniteit centraal staan. \nJeffrey Spalburg is een bekende in ons theater en oogst recent veel lof met zijn boek ‘Ik ben jullie meester’ en de voorstelling ‘Keti Koti Conference’. Hij is kritisch\, relativerend en niet bang om op humoristische wijze zaken te benoemen. \nMichael Varekamp is een gelauwerde trompetist die over de hele wereld optreedt. Hij maakte tournees met o.a. Fra Fra Sound\, Scott Hamilton\, Louis van Dijk en Lester Bowie. Hij ontving in Japan de Kobe Award en een Gouden Kalf voor zijn muziek in de film Shabu.
URL:https://podiumneede.nl/uitje/jazz-jokes-met-jeffrey-spalburg-en-michael-varekamp/
LOCATION:Dr. Van Gellicumzaal\, Julianastraat 12A\, Neede\, 7161CR\, Nederland
ATTACH;FMTTYPE=image/jpeg:https://podiumneede.nl/wp-content/uploads/2025/06/1-2526_Jeffrey_Spalburg_Michael_Varekamp_Jazz_Jokes_f_Piet_Gispen-e1757613989192.jpg
END:VEVENT
END:VCALENDAR