BEGIN:VCALENDAR
VERSION:2.0
PRODID:-//Podium Neede - ECPv6.15.20//NONSGML v1.0//EN
CALSCALE:GREGORIAN
METHOD:PUBLISH
X-WR-CALNAME:Podium Neede
X-ORIGINAL-URL:https://podiumneede.nl
X-WR-CALDESC:Evenementen voor Podium Neede
REFRESH-INTERVAL;VALUE=DURATION:PT1H
X-Robots-Tag:noindex
X-PUBLISHED-TTL:PT1H
BEGIN:VTIMEZONE
TZID:Europe/Amsterdam
BEGIN:DAYLIGHT
TZOFFSETFROM:+0100
TZOFFSETTO:+0200
TZNAME:CEST
DTSTART:20240331T010000
END:DAYLIGHT
BEGIN:STANDARD
TZOFFSETFROM:+0200
TZOFFSETTO:+0100
TZNAME:CET
DTSTART:20241027T010000
END:STANDARD
BEGIN:DAYLIGHT
TZOFFSETFROM:+0100
TZOFFSETTO:+0200
TZNAME:CEST
DTSTART:20250330T010000
END:DAYLIGHT
BEGIN:STANDARD
TZOFFSETFROM:+0200
TZOFFSETTO:+0100
TZNAME:CET
DTSTART:20251026T010000
END:STANDARD
BEGIN:DAYLIGHT
TZOFFSETFROM:+0100
TZOFFSETTO:+0200
TZNAME:CEST
DTSTART:20260329T010000
END:DAYLIGHT
BEGIN:STANDARD
TZOFFSETFROM:+0200
TZOFFSETTO:+0100
TZNAME:CET
DTSTART:20261025T010000
END:STANDARD
END:VTIMEZONE
BEGIN:VEVENT
DTSTART;TZID=Europe/Amsterdam:20251004T200000
DTEND;TZID=Europe/Amsterdam:20251004T220000
DTSTAMP:20260422T020209
CREATED:20250615T173416Z
LAST-MODIFIED:20250615T173416Z
UID:10000041-1759608000-1759615200@podiumneede.nl
SUMMARY:HET GODDELIJK LICHAAM van André Manuel
DESCRIPTION:Het Goddelijke Lichaam is het tweede deel van een nu al belachelijk succesvol drieluik over de mens\, de mensen en de mensheid. Het Goddelijke Lichaam is voor alles een voorstelling over vlees. De hamlap. De micropenis. Kanonnenvoer. Borstvergrotingen. Protheses. IJdelheid. Snijwonden. Knietjes die al dan niet gegeven worden. En een paar bipsen. Bloot. Natuurlijk komt de Vegetarische Slager langs. Op rolschaatsen. Ook hebben we een indringend gesprek met een fistel. En we gaan praten over de eigenaardige wens van sommigen om zo gezond als maar enigszins mogelijk is de laatste adem uit te blazen. Verder gaat het natuurlijk over X-benen. Die neemt Manuel zelf mee. \nNRC over Het goddelijke lichaam: ‘In zijn negentiende cabaretvoorstelling staat de Twentse André Manuel met zichtbaar plezier op de teentjes van zijn publiek. Dat zorgt voor wat ongemak en wrijving\, maar is ook spannend.
URL:https://podiumneede.nl/uitje/het-goddelijk-lichaam-van-andre-manuel/
LOCATION:Dr. Van Gellicumzaal\, Julianastraat 12A\, Neede\, 7161CR\, Nederland
ATTACH;FMTTYPE=image/jpeg:https://podiumneede.nl/wp-content/uploads/2025/06/1-Andre-Manuel_deel2_Liggend-fotocredits-Roger-Cremers-scaled.jpg
END:VEVENT
END:VCALENDAR