BEGIN:VCALENDAR
VERSION:2.0
PRODID:-//Podium Neede - ECPv6.15.20//NONSGML v1.0//EN
CALSCALE:GREGORIAN
METHOD:PUBLISH
X-WR-CALNAME:Podium Neede
X-ORIGINAL-URL:https://podiumneede.nl
X-WR-CALDESC:Evenementen voor Podium Neede
REFRESH-INTERVAL;VALUE=DURATION:PT1H
X-Robots-Tag:noindex
X-PUBLISHED-TTL:PT1H
BEGIN:VTIMEZONE
TZID:Europe/Amsterdam
BEGIN:DAYLIGHT
TZOFFSETFROM:+0100
TZOFFSETTO:+0200
TZNAME:CEST
DTSTART:20240331T010000
END:DAYLIGHT
BEGIN:STANDARD
TZOFFSETFROM:+0200
TZOFFSETTO:+0100
TZNAME:CET
DTSTART:20241027T010000
END:STANDARD
BEGIN:DAYLIGHT
TZOFFSETFROM:+0100
TZOFFSETTO:+0200
TZNAME:CEST
DTSTART:20250330T010000
END:DAYLIGHT
BEGIN:STANDARD
TZOFFSETFROM:+0200
TZOFFSETTO:+0100
TZNAME:CET
DTSTART:20251026T010000
END:STANDARD
BEGIN:DAYLIGHT
TZOFFSETFROM:+0100
TZOFFSETTO:+0200
TZNAME:CEST
DTSTART:20260329T010000
END:DAYLIGHT
BEGIN:STANDARD
TZOFFSETFROM:+0200
TZOFFSETTO:+0100
TZNAME:CET
DTSTART:20261025T010000
END:STANDARD
END:VTIMEZONE
BEGIN:VEVENT
DTSTART;TZID=Europe/Amsterdam:20250208T200000
DTEND;TZID=Europe/Amsterdam:20250208T220000
DTSTAMP:20260423T010218
CREATED:20240705T122433Z
LAST-MODIFIED:20250128T114035Z
UID:10000037-1739044800-1739052000@podiumneede.nl
SUMMARY:Oaverdrieven ku'j het beste met nen boot (uitverkocht)
DESCRIPTION:  \n\n\n\nOAVERDRIEVEN KU’J HET BESTE MET NEN BOOT \nDe nieuwe voorstelling van Thijs Kemperink \nOosterlingen worden gezien als een nuchter volkje. Doe maar normaal dan doe je al gek genoeg. Cabaretier Thijs Kemperink is maar wat trots op zijn afkomst en steekt dit niet onder stoelen of banken. In deze voorstelling gaat Thijs op zoek naar de identiteit van de streek. \nVroeger was alles beter\, toch ziet Thijs dit anders. Het aantal illegale etherpiraten is het grootst in jaren. De keten zitten vol met jeugd waar geen woord Nederlands gesproken wordt. Roddelen gebeurt nog volop\, maar een Tukker weet ook heel goed wanneer hij zijn mond moet houden. \nThijs vertelt ons over een waargebeurd verhaal met een vraagstuk\, waarop het antwoord tot op de dag van vandaag niet bekend is. Tot Thijs tijdens zijn dagelijkse wandeling aan het kanaal Gerrit ontmoet. Gerrit weet meer van dit verhaal\, maar heeft zoals zovelen besloten te zwijgen tot het graf. Of? Thijs neemt je mee in een verhaal waarin duidelijk wordt hoe normen en waarden vroeger in een dorp werden nageleefd. En hoe zit dat nu? Zijn we als streek nog steeds zo of veranderden we echt? Thijs zoekt het uit en brengt hiermee tegelijkertijd een ode aan de regio. Thijs: ‘Komen jullie allemaal gezellig op visite\, proosten we daarna op het leven!’ \nZATERDAG 8 FEBRUARI 2025 20.00 UUR – TOEGANG € 19\,50
URL:https://podiumneede.nl/uitje/oaverdrieven-kuj-het-beste-met-nen-boot/
LOCATION:Dr. Van Gellicumzaal\, Julianastraat 12A\, Neede\, 7161CR\, Nederland
ATTACH;FMTTYPE=image/jpeg:https://podiumneede.nl/wp-content/uploads/2024/07/oaverdrieven.jpg
END:VEVENT
END:VCALENDAR